BEGIN:VCALENDAR
VERSION:2.0
PRODID:-//University of Liverpool Computer Science Seminar System//v2//EN
BEGIN:VEVENT
DTSTAMP:20260421T071352Z
UID:Seminar-dept-416@lxserverM.csc.liv.ac.uk
ORGANIZER:CN=Lutz Oettershagen:MAILTO:Lutz.Oettershagen@liverpool.ac.uk
DTSTART:20160906T130000
DTEND:20160906T140000
SUMMARY:School Seminar Series
DESCRIPTION:Dr. Diederik Roijers: Multi-objective decision-theoretic planning with Optimistic Linear Support\n\nhttps://www.csc.liv.ac.uk/research/seminars/abstract.php?id=416
LOCATION:Ashton Lecture Theater
END:VEVENT
END:VCALENDAR
